BEGIN:VCALENDAR
PRODID:-//SoulAndWolf//SilverStripe//EN
VERSION:2.0
BEGIN:VEVENT
DTSTART;TZID=Australia/Melbourne:20260328T153000
DTEND;TZID=Australia/Melbourne:20260328T173000
DESCRIPTION:https://www.woodards.com.au/property/728-pascoe-vale-road-glenroy-3046-1873156/
SUMMARY:Auction at 728 Pascoe Vale Road
LOCATION:728 Pascoe Vale Road, Glenroy, VIC 3046
URL:https://www.woodards.com.au/property/728-pascoe-vale-road-glenroy-3046-1873156/
END:VEVENT
END:VCALENDAR