BEGIN:VCALENDAR
PRODID:-//SoulAndWolf//SilverStripe//EN
VERSION:2.0
BEGIN:VEVENT
DTSTART;TZID=Australia/Melbourne:20260418T123000
DTEND;TZID=Australia/Melbourne:20260418T143000
DESCRIPTION:https://www.woodards.com.au/property/73-glass-street-essendon-3040-1856814/
SUMMARY:Auction at 73 Glass Street
LOCATION:73 Glass Street, Essendon, VIC 3040
URL:https://www.woodards.com.au/property/73-glass-street-essendon-3040-1856814/
END:VEVENT
END:VCALENDAR