BEGIN:VCALENDAR
PRODID:-//SoulAndWolf//SilverStripe//EN
VERSION:2.0
BEGIN:VEVENT
DTSTART;TZID=Australia/Melbourne:20260425T130000
DTEND;TZID=Australia/Melbourne:20260425T133000
DESCRIPTION:https://www.woodards.com.au/property/76-corhampton-road-balwyn-north-3104-1886767/
SUMMARY:Inspection at 76 Corhampton Road
LOCATION:76 Corhampton Road, Balwyn North, VIC 3104
URL:https://www.woodards.com.au/property/76-corhampton-road-balwyn-north-3104-1886767/
END:VEVENT
END:VCALENDAR