BEGIN:VCALENDAR
PRODID:-//SoulAndWolf//SilverStripe//EN
VERSION:2.0
BEGIN:VEVENT
DTSTART;TZID=Australia/Melbourne:20250531T100000
DTEND;TZID=Australia/Melbourne:20250531T120000
DESCRIPTION:https://www.woodards.com.au/property/77-spring-street-preston-3072-1692088/
SUMMARY:Auction at 77 Spring Street
LOCATION:77 Spring Street, Preston, VIC 3072
URL:https://www.woodards.com.au/property/77-spring-street-preston-3072-1692088/
END:VEVENT
END:VCALENDAR