BEGIN:VCALENDAR
PRODID:-//SoulAndWolf//SilverStripe//EN
VERSION:2.0
BEGIN:VEVENT
DTSTART;TZID=Australia/Melbourne:20250712T103000
DTEND;TZID=Australia/Melbourne:20250712T123000
DESCRIPTION:https://www.woodards.com.au/property/776-high-street-reservoir-3073-1723647/
SUMMARY:Auction at 776 High Street
LOCATION:776 High Street, Reservoir, VIC 3073
URL:https://www.woodards.com.au/property/776-high-street-reservoir-3073-1723647/
END:VEVENT
END:VCALENDAR