BEGIN:VCALENDAR
PRODID:-//SoulAndWolf//SilverStripe//EN
VERSION:2.0
BEGIN:VEVENT
DTSTART;TZID=Australia/Melbourne:20251206T150000
DTEND;TZID=Australia/Melbourne:20251206T170000
DESCRIPTION:https://www.woodards.com.au/property/78-brewer-road-bentleigh-3204-1829050/
SUMMARY:Auction at 78 Brewer Road
LOCATION:78 Brewer Road, Bentleigh, VIC 3204
URL:https://www.woodards.com.au/property/78-brewer-road-bentleigh-3204-1829050/
END:VEVENT
END:VCALENDAR