BEGIN:VCALENDAR
PRODID:-//SoulAndWolf//SilverStripe//EN
VERSION:2.0
BEGIN:VEVENT
DTSTART;TZID=Australia/Melbourne:20260314T133000
DTEND;TZID=Australia/Melbourne:20260314T153000
DESCRIPTION:https://www.woodards.com.au/property/78b-lyons-street-carnegie-3163-1862069/
SUMMARY:Auction at 78B Lyons Street
LOCATION:78B Lyons Street, Carnegie, VIC 3163
URL:https://www.woodards.com.au/property/78b-lyons-street-carnegie-3163-1862069/
END:VEVENT
END:VCALENDAR