BEGIN:VCALENDAR
PRODID:-//SoulAndWolf//SilverStripe//EN
VERSION:2.0
BEGIN:VEVENT
DTSTART;TZID=Australia/Melbourne:20260122T190000
DTEND;TZID=Australia/Melbourne:20260122T210000
DESCRIPTION:https://www.woodards.com.au/property/7a-charles-street-brighton-east-3187-1843794/
SUMMARY:Auction at 7A Charles Street
LOCATION:7A Charles Street, Brighton East, VIC 3187
URL:https://www.woodards.com.au/property/7a-charles-street-brighton-east-3187-1843794/
END:VEVENT
END:VCALENDAR