BEGIN:VCALENDAR
PRODID:-//SoulAndWolf//SilverStripe//EN
VERSION:2.0
BEGIN:VEVENT
DTSTART;TZID=Australia/Melbourne:20251206T130000
DTEND;TZID=Australia/Melbourne:20251206T150000
DESCRIPTION:https://www.woodards.com.au/property/8-10-payne-street-caulfield-north-3161-1830298/
SUMMARY:Auction at 8/10 Payne Street
LOCATION:8/10 Payne Street, Caulfield North, VIC 3161
URL:https://www.woodards.com.au/property/8-10-payne-street-caulfield-north-3161-1830298/
END:VEVENT
END:VCALENDAR