BEGIN:VCALENDAR
PRODID:-//SoulAndWolf//SilverStripe//EN
VERSION:2.0
BEGIN:VEVENT
DTSTART;TZID=Australia/Melbourne:20260315T120000
DTEND;TZID=Australia/Melbourne:20260315T140000
DESCRIPTION:https://www.woodards.com.au/property/8-21-23-newlyn-street-caulfield-3162-1827704/
SUMMARY:Auction at 8/21-23 Newlyn Street
LOCATION:8/21-23 Newlyn Street, Caulfield, VIC 3162
URL:https://www.woodards.com.au/property/8-21-23-newlyn-street-caulfield-3162-1827704/
END:VEVENT
END:VCALENDAR