BEGIN:VCALENDAR
PRODID:-//SoulAndWolf//SilverStripe//EN
VERSION:2.0
BEGIN:VEVENT
DTSTART;TZID=Australia/Melbourne:20260411T110000
DTEND;TZID=Australia/Melbourne:20260411T130000
DESCRIPTION:https://www.woodards.com.au/property/8-40-ormond-road-elwood-3184-1876053/
SUMMARY:Auction at 8/40 Ormond Road
LOCATION:8/40 Ormond Road, Elwood, VIC 3184
URL:https://www.woodards.com.au/property/8-40-ormond-road-elwood-3184-1876053/
END:VEVENT
END:VCALENDAR