BEGIN:VCALENDAR
PRODID:-//SoulAndWolf//SilverStripe//EN
VERSION:2.0
BEGIN:VEVENT
DTSTART;TZID=Australia/Melbourne:20260516T123000
DTEND;TZID=Australia/Melbourne:20260516T130000
DESCRIPTION:https://www.woodards.com.au/property/8-arna-street-blackburn-3130-1891620/
SUMMARY:Inspection at 8 Arna Street
LOCATION:8 Arna Street, Blackburn, VIC 3130
URL:https://www.woodards.com.au/property/8-arna-street-blackburn-3130-1891620/
END:VEVENT
END:VCALENDAR