BEGIN:VCALENDAR
PRODID:-//SoulAndWolf//SilverStripe//EN
VERSION:2.0
BEGIN:VEVENT
DTSTART;TZID=Australia/Melbourne:20250426T110000
DTEND;TZID=Australia/Melbourne:20250426T130000
DESCRIPTION:https://www.woodards.com.au/property/8-hosken-street-reservoir-3073-1670358/
SUMMARY:Auction at 8 Hosken Street
LOCATION:8 Hosken Street, Reservoir, VIC 3073
URL:https://www.woodards.com.au/property/8-hosken-street-reservoir-3073-1670358/
END:VEVENT
END:VCALENDAR