BEGIN:VCALENDAR
PRODID:-//SoulAndWolf//SilverStripe//EN
VERSION:2.0
BEGIN:VEVENT
DTSTART;TZID=Australia/Melbourne:20260523T153000
DTEND;TZID=Australia/Melbourne:20260523T173000
DESCRIPTION:https://www.woodards.com.au/property/8-melbourne-avenue-glenroy-3046-1891653/
SUMMARY:Auction at 8 Melbourne Avenue
LOCATION:8 Melbourne Avenue, Glenroy, VIC 3046
URL:https://www.woodards.com.au/property/8-melbourne-avenue-glenroy-3046-1891653/
END:VEVENT
END:VCALENDAR