BEGIN:VCALENDAR
PRODID:-//SoulAndWolf//SilverStripe//EN
VERSION:2.0
BEGIN:VEVENT
DTSTART;TZID=Australia/Melbourne:20251115T110000
DTEND;TZID=Australia/Melbourne:20251115T130000
DESCRIPTION:https://www.woodards.com.au/property/8-zinnober-gardens-epping-3076-1819374/
SUMMARY:Auction at 8 Zinnober Gardens
LOCATION:8 Zinnober Gardens, Epping, VIC 3076
URL:https://www.woodards.com.au/property/8-zinnober-gardens-epping-3076-1819374/
END:VEVENT
END:VCALENDAR