BEGIN:VCALENDAR
PRODID:-//SoulAndWolf//SilverStripe//EN
VERSION:2.0
BEGIN:VEVENT
DTSTART;TZID=Australia/Melbourne:20260221T100000
DTEND;TZID=Australia/Melbourne:20260221T120000
DESCRIPTION:https://www.woodards.com.au/property/82-miller-street-carnegie-3163-1853770/
SUMMARY:Auction at 82 Miller Street
LOCATION:82 Miller Street, Carnegie, VIC 3163
URL:https://www.woodards.com.au/property/82-miller-street-carnegie-3163-1853770/
END:VEVENT
END:VCALENDAR