BEGIN:VCALENDAR
PRODID:-//SoulAndWolf//SilverStripe//EN
VERSION:2.0
BEGIN:VEVENT
DTSTART;TZID=Australia/Melbourne:20230506T130000
DTEND;TZID=Australia/Melbourne:20230506T150000
DESCRIPTION:https://www.woodards.com.au/property/86-malpas-street-preston-3072-1352541/
SUMMARY:Auction at 86 Malpas Street
LOCATION:86 Malpas Street, Preston, VIC 3072
URL:https://www.woodards.com.au/property/86-malpas-street-preston-3072-1352541/
END:VEVENT
END:VCALENDAR