BEGIN:VCALENDAR
PRODID:-//SoulAndWolf//SilverStripe//EN
VERSION:2.0
BEGIN:VEVENT
DTSTART;TZID=Australia/Melbourne:20251011T120000
DTEND;TZID=Australia/Melbourne:20251011T140000
DESCRIPTION:https://www.woodards.com.au/property/89-windsor-crescent-mont-albert-3127-1779893/
SUMMARY:Auction at 89 Windsor Crescent
LOCATION:89 Windsor Crescent, Mont Albert, VIC 3127
URL:https://www.woodards.com.au/property/89-windsor-crescent-mont-albert-3127-1779893/
END:VEVENT
END:VCALENDAR