BEGIN:VCALENDAR
PRODID:-//SoulAndWolf//SilverStripe//EN
VERSION:2.0
BEGIN:VEVENT
DTSTART;TZID=Australia/Melbourne:20260425T160000
DTEND;TZID=Australia/Melbourne:20260425T161500
DESCRIPTION:https://www.woodards.com.au/property/8a-pyne-street-caulfield-3162-1891595/
SUMMARY:Inspection at 8A Pyne Street
LOCATION:8A Pyne Street, Caulfield, VIC 3162
URL:https://www.woodards.com.au/property/8a-pyne-street-caulfield-3162-1891595/
END:VEVENT
END:VCALENDAR