BEGIN:VCALENDAR
PRODID:-//SoulAndWolf//SilverStripe//EN
VERSION:2.0
BEGIN:VEVENT
DTSTART;TZID=Australia/Melbourne:20241026T123000
DTEND;TZID=Australia/Melbourne:20241026T143000
DESCRIPTION:https://www.woodards.com.au/property/9-10-maryville-street-ripponlea-3185-1583528/
SUMMARY:Auction at 9/10 Maryville Street
LOCATION:9/10 Maryville Street, Ripponlea, VIC 3185
URL:https://www.woodards.com.au/property/9-10-maryville-street-ripponlea-3185-1583528/
END:VEVENT
END:VCALENDAR