BEGIN:VCALENDAR
PRODID:-//SoulAndWolf//SilverStripe//EN
VERSION:2.0
BEGIN:VEVENT
DTSTART;TZID=Australia/Melbourne:20251206T140000
DTEND;TZID=Australia/Melbourne:20251206T160000
DESCRIPTION:https://www.woodards.com.au/property/9-1011-glen-huntly-road-caulfield-3162-1830391/
SUMMARY:Auction at 9/1011 Glen Huntly Road
LOCATION:9/1011 Glen Huntly Road, Caulfield, VIC 3162
URL:https://www.woodards.com.au/property/9-1011-glen-huntly-road-caulfield-3162-1830391/
END:VEVENT
END:VCALENDAR