BEGIN:VCALENDAR
PRODID:-//SoulAndWolf//SilverStripe//EN
VERSION:2.0
BEGIN:VEVENT
DTSTART;TZID=Australia/Melbourne:20260425T150000
DTEND;TZID=Australia/Melbourne:20260425T151500
DESCRIPTION:https://www.woodards.com.au/property/9-1260-glen-huntly-road-carnegie-3163-1890398/
SUMMARY:Inspection at 9/1260 Glen Huntly Road
LOCATION:9/1260 Glen Huntly Road, Carnegie, VIC 3163
URL:https://www.woodards.com.au/property/9-1260-glen-huntly-road-carnegie-3163-1890398/
END:VEVENT
END:VCALENDAR