BEGIN:VCALENDAR
PRODID:-//SoulAndWolf//SilverStripe//EN
VERSION:2.0
BEGIN:VEVENT
DTSTART;TZID=Australia/Melbourne:20251115T140000
DTEND;TZID=Australia/Melbourne:20251115T160000
DESCRIPTION:https://www.woodards.com.au/property/9-21-royal-avenue-glen-huntly-3163-1821173/
SUMMARY:Auction at 9/21 Royal Avenue
LOCATION:9/21 Royal Avenue, Glen Huntly, VIC 3163
URL:https://www.woodards.com.au/property/9-21-royal-avenue-glen-huntly-3163-1821173/
END:VEVENT
END:VCALENDAR