BEGIN:VCALENDAR
PRODID:-//SoulAndWolf//SilverStripe//EN
VERSION:2.0
BEGIN:VEVENT
DTSTART;TZID=Australia/Melbourne:20260427T161500
DTEND;TZID=Australia/Melbourne:20260427T163000
DESCRIPTION:https://www.woodards.com.au/property/9-2a-cameron-rd-essendon-3040-1886842/
SUMMARY:Inspection at 9/2A Cameron Rd
LOCATION:9/2A Cameron Rd, Essendon, VIC 3040
URL:https://www.woodards.com.au/property/9-2a-cameron-rd-essendon-3040-1886842/
END:VEVENT
END:VCALENDAR