BEGIN:VCALENDAR
PRODID:-//SoulAndWolf//SilverStripe//EN
VERSION:2.0
BEGIN:VEVENT
DTSTART;TZID=Australia/Melbourne:20260314T120000
DTEND;TZID=Australia/Melbourne:20260314T140000
DESCRIPTION:https://www.woodards.com.au/property/9-albert-street-highett-3190-1859800/
SUMMARY:Auction at 9 Albert Street
LOCATION:9 Albert Street, Highett, VIC 3190
URL:https://www.woodards.com.au/property/9-albert-street-highett-3190-1859800/
END:VEVENT
END:VCALENDAR