BEGIN:VCALENDAR
PRODID:-//SoulAndWolf//SilverStripe//EN
VERSION:2.0
BEGIN:VEVENT
DTSTART;TZID=Australia/Melbourne:20260426T113000
DTEND;TZID=Australia/Melbourne:20260426T120000
DESCRIPTION:https://www.woodards.com.au/property/9-jabiru-drive-chelsea-heights-3196-1889723/
SUMMARY:Inspection at 9 Jabiru Drive
LOCATION:9 Jabiru Drive, Chelsea Heights, VIC 3196
URL:https://www.woodards.com.au/property/9-jabiru-drive-chelsea-heights-3196-1889723/
END:VEVENT
END:VCALENDAR