BEGIN:VCALENDAR
PRODID:-//SoulAndWolf//SilverStripe//EN
VERSION:2.0
BEGIN:VEVENT
DTSTART;TZID=Australia/Melbourne:20240803T130000
DTEND;TZID=Australia/Melbourne:20240803T150000
DESCRIPTION:https://www.woodards.com.au/property/9-swan-court-thomastown-3074-1545510/
SUMMARY:Auction at 9 Swan Court
LOCATION:9 Swan Court, Thomastown, VIC 3074
URL:https://www.woodards.com.au/property/9-swan-court-thomastown-3074-1545510/
END:VEVENT
END:VCALENDAR