BEGIN:VCALENDAR
PRODID:-//SoulAndWolf//SilverStripe//EN
VERSION:2.0
BEGIN:VEVENT
DTSTART;TZID=Australia/Melbourne:20250906T140000
DTEND;TZID=Australia/Melbourne:20250906T160000
DESCRIPTION:https://www.woodards.com.au/property/90-brady-road-bentleigh-east-3165-1735684/
SUMMARY:Auction at 90 Brady Road
LOCATION:90 Brady Road, Bentleigh East, VIC 3165
URL:https://www.woodards.com.au/property/90-brady-road-bentleigh-east-3165-1735684/
END:VEVENT
END:VCALENDAR