BEGIN:VCALENDAR
PRODID:-//SoulAndWolf//SilverStripe//EN
VERSION:2.0
BEGIN:VEVENT
DTSTART;TZID=Australia/Melbourne:20260425T150000
DTEND;TZID=Australia/Melbourne:20260425T153000
DESCRIPTION:https://www.woodards.com.au/property/902-101-tram-road-doncaster-3108-1886708/
SUMMARY:Inspection at 902/101 Tram Road
LOCATION:902/101 Tram Road, Doncaster, VIC 3108
URL:https://www.woodards.com.au/property/902-101-tram-road-doncaster-3108-1886708/
END:VEVENT
END:VCALENDAR