BEGIN:VCALENDAR
PRODID:-//SoulAndWolf//SilverStripe//EN
VERSION:2.0
BEGIN:VEVENT
DTSTART;TZID=Australia/Melbourne:20260425T153000
DTEND;TZID=Australia/Melbourne:20260425T154500
DESCRIPTION:https://www.woodards.com.au/property/g05-1256-glen-huntly-road-glen-huntly-3163-1890262/
SUMMARY:Inspection at G05/1256 Glen Huntly Road
LOCATION:G05/1256 Glen Huntly Road, Glen Huntly, VIC 3163
URL:https://www.woodards.com.au/property/g05-1256-glen-huntly-road-glen-huntly-3163-1890262/
END:VEVENT
END:VCALENDAR