BEGIN:VCALENDAR
PRODID:-//SoulAndWolf//SilverStripe//EN
VERSION:2.0
BEGIN:VEVENT
DTSTART;TZID=Australia/Melbourne:20260516T143000
DTEND;TZID=Australia/Melbourne:20260516T163000
DESCRIPTION:https://www.woodards.com.au/property/g05-1330-dandenong-road-hughesdale-3166-1890597/
SUMMARY:Auction at G05/1330 Dandenong Road
LOCATION:G05/1330 Dandenong Road, Hughesdale, VIC 3166
URL:https://www.woodards.com.au/property/g05-1330-dandenong-road-hughesdale-3166-1890597/
END:VEVENT
END:VCALENDAR