BEGIN:VCALENDAR
PRODID:-//SoulAndWolf//SilverStripe//EN
VERSION:2.0
BEGIN:VEVENT
DTSTART;TZID=Australia/Melbourne:20251206T140000
DTEND;TZID=Australia/Melbourne:20251206T160000
DESCRIPTION:https://www.woodards.com.au/property/g09-15-livingstone-street-ivanhoe-3079-1830809/
SUMMARY:Auction at G09/15 Livingstone Street
LOCATION:G09/15 Livingstone Street, Ivanhoe, VIC 3079
URL:https://www.woodards.com.au/property/g09-15-livingstone-street-ivanhoe-3079-1830809/
END:VEVENT
END:VCALENDAR