BEGIN:VCALENDAR
PRODID:-//SoulAndWolf//SilverStripe//EN
VERSION:2.0
BEGIN:VEVENT
DTSTART;TZID=Australia/Melbourne:20260422T170000
DTEND;TZID=Australia/Melbourne:20260422T172000
DESCRIPTION:https://www.woodards.com.au/property/g1211-glass-street-essendon-3040-1889349/
SUMMARY:Inspection at G12/11 Glass Street
LOCATION:G12/11 Glass Street, Essendon, VIC 3040
URL:https://www.woodards.com.au/property/g1211-glass-street-essendon-3040-1889349/
END:VEVENT
END:VCALENDAR